BEGIN:VCALENDAR
VERSION:2.0
PRODID:-//Quatuor Molinari String Quartet - ECPv6.15.11//NONSGML v1.0//EN
CALSCALE:GREGORIAN
METHOD:PUBLISH
X-WR-CALNAME:Quatuor Molinari String Quartet
X-ORIGINAL-URL:https://quatuormolinari.qc.ca
X-WR-CALDESC:Évènements pour Quatuor Molinari String Quartet
REFRESH-INTERVAL;VALUE=DURATION:PT1H
X-Robots-Tag:noindex
X-PUBLISHED-TTL:PT1H
BEGIN:VTIMEZONE
TZID:America/New_York
BEGIN:DAYLIGHT
TZOFFSETFROM:-0500
TZOFFSETTO:-0400
TZNAME:EDT
DTSTART:20250309T070000
END:DAYLIGHT
BEGIN:STANDARD
TZOFFSETFROM:-0400
TZOFFSETTO:-0500
TZNAME:EST
DTSTART:20251102T060000
END:STANDARD
BEGIN:DAYLIGHT
TZOFFSETFROM:-0500
TZOFFSETTO:-0400
TZNAME:EDT
DTSTART:20260308T070000
END:DAYLIGHT
BEGIN:STANDARD
TZOFFSETFROM:-0400
TZOFFSETTO:-0500
TZNAME:EST
DTSTART:20261101T060000
END:STANDARD
BEGIN:DAYLIGHT
TZOFFSETFROM:-0500
TZOFFSETTO:-0400
TZNAME:EDT
DTSTART:20270314T070000
END:DAYLIGHT
BEGIN:STANDARD
TZOFFSETFROM:-0400
TZOFFSETTO:-0500
TZNAME:EST
DTSTART:20271107T060000
END:STANDARD
END:VTIMEZONE
BEGIN:VEVENT
DTSTART;TZID=America/New_York:20260528T193000
DTEND;TZID=America/New_York:20260528T220000
DTSTAMP:20260425T062535
CREATED:20260313T205355Z
LAST-MODIFIED:20260313T205355Z
UID:9921-1779996600-1780005600@quatuormolinari.qc.ca
SUMMARY:Le Quatuor selon Chostakovitch : Concert 1. Quatuors nos 1 à 5
DESCRIPTION:Le Quatuor Molinari présente l’intégrale des 15 quatuors de Dimitri Chostakovitch en trois soirées-marathon. \nPlongez dans l’univers tourmenté du grand compositeur russe à travers les 15 chefs-d’oeuvre qu’il a écrit pour quatuor à cordes. Considéré comme un des plus importants cycles de quatuors à cordes aux côtés de ceux de Beethoven et de Bartók\, ce corpus a été écrit sur une période de 36 ans soit de 1938 à 1974. \n  \nQuatuors nos 1 à 5 \n  \nObtenez une réduction de 20% sur le prix des billets si vous achetez des billets pour deux concerts de l’intégrale. \nObtenez une réduction de 25% sur le prix des billets si vous achetez des billets pour trois concerts de l’intégrale. \n 
URL:https://quatuormolinari.qc.ca/event/le-quatuor-selon-chostakovitch-concert-1-quatuors-nos-1-a-5/
LOCATION:Salle de concert du Conservatoire\, 4750\, avenue Henri-Julien\, Montréal\, QC\, H2T 2C8\, Canada
CATEGORIES:Concerts,Concerts-Montréal
ATTACH;FMTTYPE=image/jpeg:https://quatuormolinari.qc.ca/wp-content/uploads/2025/04/Dmitri-Chostakovitch-1_5jpg.jpg
END:VEVENT
BEGIN:VEVENT
DTSTART;TZID=America/New_York:20260529T193000
DTEND;TZID=America/New_York:20260529T220000
DTSTAMP:20260425T062535
CREATED:20260313T205649Z
LAST-MODIFIED:20260313T205649Z
UID:9923-1780083000-1780092000@quatuormolinari.qc.ca
SUMMARY:Le Quatuor selon Chostakovitch : Concert 2. Quatuors nos 6 à 10
DESCRIPTION:Le Quatuor Molinari présente l’intégrale des 15 quatuors de Dimitri Chostakovitch en trois soirées-marathon.\nPlongez dans l’univers tourmenté du grand compositeur russe à travers les 15 chefs-d’oeuvre qu’il a écrit pour quatuor à cordes. Considéré comme un des plus importants cycles de quatuors à cordes aux côtés de ceux de Beethoven et de Bartók\, ce corpus a été écrit sur une période de 36 ans soit de 1938 à 1974. \nQuatuors nos 6 à 10 \nObtenez une réduction de 20% sur le prix des billets si vous achetez des billets pour deux concerts de l’intégrale.\nObtenez une réduction de 25% sur le prix des billets si vous achetez des billets pour trois concerts de l’intégrale.
URL:https://quatuormolinari.qc.ca/event/le-quatuor-selon-chostakovitch-concert-2-quatuors-nos-6-a-10/
LOCATION:Salle de concert du Conservatoire\, 4750\, avenue Henri-Julien\, Montréal\, QC\, H2T 2C8\, Canada
CATEGORIES:Concerts,Concerts-Montréal
ATTACH;FMTTYPE=image/jpeg:https://quatuormolinari.qc.ca/wp-content/uploads/2025/04/chostakovitch_6_10.jpg
END:VEVENT
BEGIN:VEVENT
DTSTART;TZID=America/New_York:20260531T193000
DTEND;TZID=America/New_York:20260531T220000
DTSTAMP:20260425T062535
CREATED:20260313T210115Z
LAST-MODIFIED:20260313T210403Z
UID:9925-1780255800-1780264800@quatuormolinari.qc.ca
SUMMARY:Le Quatuor selon Chostakovitch : Concert 3. Quatuors nos 11 à 15
DESCRIPTION:Le Quatuor Molinari présente l’intégrale des 15 quatuors de Dimitri Chostakovitch en trois soirées-marathon.\nPlongez dans l’univers tourmenté du grand compositeur russe à travers les 15 chefs-d’oeuvre qu’il a écrit pour quatuor à cordes. Considéré comme un des plus importants cycles de quatuors à cordes aux côtés de ceux de Beethoven et de Bartók\, ce corpus a été écrit sur une période de 36 ans soit de 1938 à 1974. \nQuatuors nos 11 à 15 \n  \nObtenez une réduction de 20% sur le prix des billets si vous achetez des billets pour deux concerts de l’intégrale.\nObtenez une réduction de 25% sur le prix des billets si vous achetez des billets pour trois concerts de l’intégrale.
URL:https://quatuormolinari.qc.ca/event/le-quatuor-selon-chostakovitch-concert-3-quatuors-nos-11-a-15/
LOCATION:Salle de concert du Conservatoire\, 4750\, avenue Henri-Julien\, Montréal\, QC\, H2T 2C8\, Canada
CATEGORIES:Concerts,Concerts-Montréal
ATTACH;FMTTYPE=image/jpeg:https://quatuormolinari.qc.ca/wp-content/uploads/2025/04/chosta-11_15-e1773435821435.jpg
END:VEVENT
END:VCALENDAR